BEGIN:VCALENDAR
VERSION:2.0
PRODID:-//Tamara Miriam Bäuerle - ECPv6.15.20//NONSGML v1.0//EN
CALSCALE:GREGORIAN
METHOD:PUBLISH
X-ORIGINAL-URL:https://tamaraflussdeslebens.de
X-WR-CALDESC:Veranstaltungen für Tamara Miriam Bäuerle
REFRESH-INTERVAL;VALUE=DURATION:PT1H
X-Robots-Tag:noindex
X-PUBLISHED-TTL:PT1H
BEGIN:VTIMEZONE
TZID:Europe/Berlin
BEGIN:DAYLIGHT
TZOFFSETFROM:+0100
TZOFFSETTO:+0200
TZNAME:CEST
DTSTART:20240331T010000
END:DAYLIGHT
BEGIN:STANDARD
TZOFFSETFROM:+0200
TZOFFSETTO:+0100
TZNAME:CET
DTSTART:20241027T010000
END:STANDARD
BEGIN:DAYLIGHT
TZOFFSETFROM:+0100
TZOFFSETTO:+0200
TZNAME:CEST
DTSTART:20250330T010000
END:DAYLIGHT
BEGIN:STANDARD
TZOFFSETFROM:+0200
TZOFFSETTO:+0100
TZNAME:CET
DTSTART:20251026T010000
END:STANDARD
BEGIN:DAYLIGHT
TZOFFSETFROM:+0100
TZOFFSETTO:+0200
TZNAME:CEST
DTSTART:20260329T010000
END:DAYLIGHT
BEGIN:STANDARD
TZOFFSETFROM:+0200
TZOFFSETTO:+0100
TZNAME:CET
DTSTART:20261025T010000
END:STANDARD
END:VTIMEZONE
BEGIN:VEVENT
DTSTART;TZID=Europe/Berlin:20250112T080000
DTEND;TZID=Europe/Berlin:20251130T170000
DTSTAMP:20260422T181000
CREATED:20240928T162246Z
LAST-MODIFIED:20241002T100833Z
UID:6635-1736668800-1764522000@tamaraflussdeslebens.de
SUMMARY:Yoga Reisen deutschsprachig
DESCRIPTION:Die schönsten Zeiten sind Auszeiten! Nehme Dir eine nachhaltige und achtsame Auszeit\, die den Blick öffnet für Begegnungen\, Veränderung und Inspirationen. \nIn Kooperation mit Indigo Urlaub unterrichte ich Yoga in folgenden Wochen und Orten in 2025: \n \nMountain Retreat Center: \nYoga Urlaub in den Bergen des Chiemgaus mit Schwerpunkt Yoga & Meditation. \nÜber alle Berge und in der eigenen Mitte ankommen im Mountain Retreat Center.  Bei einem Kurzurlaub in der Weite der Chiemgauer Bergwelt genießet Du Yogaeinheiten\, Zeit mit Gleichgesinnten und eine atemberaubende Naturlandschaft. \nWoche 1: \nSo\, 12.01.2025-19.01.2025 \nWoche 2: \nSo\, 02.03.2025-09.03.2025 \nWoche 3 & Woche 4: \nSo\, 27.04.-11.05. \n \nKleebauer Hof Retreat Center: \nRolle die Yogamatte aus\, atme den erdigen Duft des Waldes ein und blicke in die Weite des sanften Mühlviertler Hügellandes. In dieser Auszeit in und um den Vierkanthof Kleebauer Hof entdecke mit Yoga innere Balance und eine Landschaft\, die Naturliebhaber und Aktive zugleich anzieht. \nWoche 1: \nSo\,19.01.2025-26.01.2025 \nWoche 2: \nSo\, 23.11.-30.11.2025 \n \nSon Manera Retreat Finca auf Mallorca:  \nYoga und Relaxurlaub auf der Finca in Mallorca. Gönne Dir eine kleine mediterrane Auszeit\, um den Alltag zu unterbrechen und aufzutanken. Die Son Manera Retreat Finca im Herzen Mallorcas bietet den idealen Rahmen mit Yoga\, SPA\, nachhaltigem Urlaubsangebot und viel Ruhe. \nWoche 1-3: \nSa\, 02.08.2025-23.08.2025 \n \nDu hast Lust bekommen? \nBuchen kannst Du die Reisen direkt bei Indigo Urlaub und wenn Du Fragen zum Yoga Programm hast\, dann schreibe mir gerne eine Nachricht an: info@tamarabaeuerle.com
URL:https://tamaraflussdeslebens.de/event/yoga-reisen-deutschsprachig/
LOCATION:Indigo Urlaub\, Ecklweg 4\, Linz\, 4040\, Austria
CATEGORIES:Yoga Retreat
ATTACH;FMTTYPE=image/png:https://tamaraflussdeslebens.de/wp-content/uploads/Kleebauer-Hof.png
ORGANIZER;CN="Tamara Miriam B%C3%A4uerle":MAILTO:tamara.baeuerle@web.de
END:VEVENT
BEGIN:VEVENT
DTSTART;TZID=Europe/Berlin:20250115T000000
DTEND;TZID=Europe/Berlin:20250312T000000
DTSTAMP:20260422T181000
CREATED:20230530T150029Z
LAST-MODIFIED:20241212T125737Z
UID:3479-1736899200-1741737600@tamaraflussdeslebens.de
SUMMARY:Online Vinyasa Yoga Live
DESCRIPTION:Online Vinyasa Yoga Live jeden Mittwoch \nKomme jeden Mittwoch mit mir auf Deine Yoga Matte. 🧘‍♀️ \nDich erwarten wohlstrukturierte Vinyasa Flows\, in denen jede Asana aus einem ganz bestimmten Grund genau für diese Stunde ausgewählt wurde. Hierbei kann der Flow mal schnell\, fördernd und fließend sein\, mal langsam\, bedacht und intensiv. Es kann vorkommen\, dass ich Dich sanft und sicher über Deine Grenzen hinausführe\, Dich aus Deiner Komfortzone bringe\, um Dir zu zeigen\, wie viel Du wachsen kannst. \n \nKleiner Insider: Wenn wir uns auf die Matte setzen\, kommt (noch) kein Shavasana. 😉 Aber dann\, sobald Du Shavasana erreicht hast\, sind alle Anstrengungen vergessen und Dein Körper wird in den Erholungszustand versetzt. \nDie Termine\, jeden Mittwoch von 19.30-20.45Uhr. \nDie Online Live Stunden finden über Teams statt. \nDu möchtest mal Schnuppern? Dann schreibe mir ganz einfach eine Nachricht an: baeuerle.tamara@gmail.com \n  \nNächst möglicher Start: 15.01.2025 \nTermine: 10x fortlaufend \nFür jede Stunde gibt es eine Aufzeichnung\, falls Du sie verpasst. Du hast bis zum Ende des Kurses Zeit\, sie nachzuholen. \nKursgebühr: 145 Euro \nAnmeldung zum Kurs ganz einfach über eine E-Mail an: baeuerle.tamara@gmail.com \nDu hast Fragen? Schreibe mir dazu gerne eine Nachricht oder mache einen Termin mit mir aus. \nDu möchtest lieber Deine eigene Zeit wählen\, um Yoga zu machen? Alle Kurse findest Du auch als On Demand Format. \n					\n									Jetzt gleich loslegen!\n					 \n\n	« Alle Veranstaltungen
URL:https://tamaraflussdeslebens.de/event/online-vinyasa-yoga-live/
LOCATION:Online\, Deutschland
CATEGORIES:Online Yoga Live
ATTACH;FMTTYPE=image/jpeg:https://tamaraflussdeslebens.de/wp-content/uploads/Yoga-Domi-Tami-71-Mittel.jpeg
ORGANIZER;CN="Tamara Miriam B%C3%A4uerle":MAILTO:tamara.baeuerle@web.de
END:VEVENT
END:VCALENDAR