BEGIN:VCALENDAR
VERSION:2.0
PRODID:-//Tamara Miriam Bäuerle - ECPv6.15.20//NONSGML v1.0//EN
CALSCALE:GREGORIAN
METHOD:PUBLISH
X-WR-CALNAME:Tamara Miriam Bäuerle
X-ORIGINAL-URL:https://tamaraflussdeslebens.de
X-WR-CALDESC:Veranstaltungen für Tamara Miriam Bäuerle
REFRESH-INTERVAL;VALUE=DURATION:PT1H
X-Robots-Tag:noindex
X-PUBLISHED-TTL:PT1H
BEGIN:VTIMEZONE
TZID:Europe/Berlin
BEGIN:DAYLIGHT
TZOFFSETFROM:+0100
TZOFFSETTO:+0200
TZNAME:CEST
DTSTART:20260329T010000
END:DAYLIGHT
BEGIN:STANDARD
TZOFFSETFROM:+0200
TZOFFSETTO:+0100
TZNAME:CET
DTSTART:20261025T010000
END:STANDARD
BEGIN:DAYLIGHT
TZOFFSETFROM:+0100
TZOFFSETTO:+0200
TZNAME:CEST
DTSTART:20270328T010000
END:DAYLIGHT
BEGIN:STANDARD
TZOFFSETFROM:+0200
TZOFFSETTO:+0100
TZNAME:CET
DTSTART:20271031T010000
END:STANDARD
BEGIN:DAYLIGHT
TZOFFSETFROM:+0100
TZOFFSETTO:+0200
TZNAME:CEST
DTSTART:20280326T010000
END:DAYLIGHT
BEGIN:STANDARD
TZOFFSETFROM:+0200
TZOFFSETTO:+0100
TZNAME:CET
DTSTART:20281029T010000
END:STANDARD
END:VTIMEZONE
BEGIN:VEVENT
DTSTART;TZID=Europe/Berlin:20270102T080000
DTEND;TZID=Europe/Berlin:20270116T170000
DTSTAMP:20260423T001532
CREATED:20251027T202157Z
LAST-MODIFIED:20260316T133416Z
UID:7461-1798876800-1800118800@tamaraflussdeslebens.de
SUMMARY:Bali Yoga Retreat 2027
DESCRIPTION:02. – 16. Januar 2027 \nEntdecke die Insel. Entdecke Deine Praxis. Entdecke Dich. \nTauche ein in eine Reise\, die weit über Urlaub hinausgeht.  Dieses Retreat ist eine Einladung\, Bali mit all seinen Facetten zu entdecken — und gleichzeitig tief in deine eigene innere Welt einzutauchen. \nWir beginnen unsere Reise im Herzen von Ubud\, dem kulturellen und spirituellen Zentrum Balis. Zwischen Reisfeldern\, Dschungel\, heiligen Tempeln und traditionellen Zeremonien wirst du die lebendige Atmosphäre spüren\, die Bali so einzigartig macht. Wir besuchen inspirierende Yoga-Studios\, erkunden lokale Märkte und lassen uns von der Weisheit und Sanftheit der balinesischen Kultur berühren. \nNach drei Tagen des Ankommens\, Erkundens und Einstimmens reisen wir weiter in den stilleren Norden der Insel — in ein idyllisch gelegenes Retreat-Paradise direkt am Meer. Hier erwarten dich tägliche Yoga-Sessions mit einer kraftvollen Mischung aus dynamischer Vinyasa-Praxis am Morgen und regenerierendem\, meditativen Yoga am Abend. Zwischen den Einheiten bleibt Raum\, den Rhythmus der Insel zu spüren: Schnorcheln\, Natur erkunden\, in Stille am Strand sitzen oder einfach loslassen und sein. \nDiese Reise ist nicht nur eine Reise nach Bali — sie ist eine Reise zu dir selbst.  Was passiert\, wenn du Raum hast zu fühlen? Wenn du langsamer wirst? Wenn du dich von einer neuen Kultur inspirieren lässt? \n\nDu wirst nicht nur die Insel erkunden.\nDu wirst deine Praxis erforschen.\nUnd du wirst dir selbst begegnen — neugierig\, offen\, frei.\n\n✨ Für alle\, die… \n\nnicht nur reisen\, sondern erleben wollen\ntiefer in die Yogapraxis eintauchen möchten\nInspiration und innere Klarheit suchen\nsich danach sehnen\, in der Natur aufzutanken\nmutig genug sind\, Neues zu entdecken — im Außen und im Innen\n\nBali ruft dich.\nDie Insel wartet.\nUnd du bist eingeladen\, dich selbst neu zu entdecken. \n\n\n\nReise Tag für Tag \n3 Tage Ubud\nSa. 02.01.2027 oder individueller Zeitpunkt: Abflug \nSo. 03.01.2027 oder individueller Zeitpunkt: Ankunft am Flughafen in Denpasar/Bali und Transfer nach Ubud. \nSo.-Mi. 03.01.-06.01.2027: 3 Übernachtungen inkl. Frühstück im Hotel Sapodilla\, Ubud. \nAnkommen und Balis kulturelles und spirituelles Zentrum kennenlernen.\nUbud ist eine malerische Stadt im zentralen Hochland von Bali. Es gilt als kulturelles und spirituelles Zentrum der Insel und ist bekannt für seine üppigen Reisfelder\, dichten Dschungel\, traditionelle Kunst und inspirierende Atmosphäre. Ubud bietet eine Vielzahl von Attraktionen\, darunter den Affenwald\, den Königspalast\, Kunsthandwerksmärkte und Yoga-Retreats wie das Yoga Barn\, das zu einer Yogastunde einlädt. Die Stadt zieht Besucher an\, die sich für balinesische Kultur\, Wellness und die friedliche Natur begeistern. Ubud ist der perfekte Ort\, um auf Bali anzukommen und sich zu akklimatisieren sowie Körper und Geist zu entspannen und in die reiche Kultur Balis einzutauchen. \nMi. 06.01.2027: Transfer an die Nordostküste der Insel mit Ausflug zum Reisfeld Maha Gangga. \n \n10 Tage Sambirenteng\nMi.-Sa. 06.01.-16.01.2027: 10 Übernachtungen inkl. Halbpension im Holiway Garden Resort\, Sambirenteng. \nSambirenteng ist ein malerisches Dorf an der Nordostküste von Bali\, das für seine ruhige und unberührte Atmosphäre bekannt ist. Umgeben von üppig angelegten Gärten\, schwarzen Sandstränden und dem klaren Wasser des Bali-Sees ist es außerdem ein idealer Ausgangspunkt\, um die vielfältige Natur und Kultur Balis zu entdecken. Ob Schnorcheln in der farbenfrohen Unterwasserwelt\, Wanderungen durch die umliegenden Hügel oder der Besuch traditioneller balinesischer Tempel – Sambirenteng bietet ein authentisches Bali-Erlebnis abseits des Tourismus.\nAn diesem kraftvollen Ort werden am Vormittag die täglichen Yogaeinheiten stattfinden. \nSa. 16.01.2027 oder individueller Zeitpunkt: Abreise aus dem Hotel Holiway Garden zum Flughafen Denpasar/Bali und Abflug. \nSo. 17.01.2027 oder individueller Zeitpunkt: Ankunft am Flughafen deiner Wahl. \n \nTagesablauf\n\n07.30-09.00 Uhr Aktivierende Yoga Praxis – 90min\n09.00-10.00 Uhr Frühstücksbuffet\nYoga Tagesworkshop (Theorie/Praxis)\, Ausflug und/oder freie Zeit\n17.00-18.00 Uhr Sanfte Yoga Praxis – 60min\n19.00Uhr-21.00 Uhr Abendessen (letzte Bestellung 20.15Uhr)\nGemeinsamer Abend oder Meditation\n\nAusflüge\nDie Reise beinhaltet 3 Ausflüge: \n\nAusflug zum Wasserpalast Taman Ujung und zum Wassertempel Tirta Gangga:\n\nDieser Ausflug führt uns in den Osten Balis zu zwei der schönsten Wasseranlagen der Insel. Zunächst besuchen wir den eindrucksvollen Wasserpalast Taman Ujung mit seinen weitläufigen Gärten\, Teichen und Ausblicken auf Meer und Berge. Anschließend genießen wir im Restaurant Bali Asli eine entspannte Pause mit regionaler Küche und Blick in die balinesische Landschaft. Danach geht es weiter zum heiligen Wassertempel Tirta Gangga\, dessen Quellen\, Becken und kunstvoll angelegte Wege zum Verweilen und Innehalten einladen. \n\n\n\n2. Geführte Dschungelwanderung zu den Aling Aling Wasserfällen: \nDie Dschungelwanderung zu den Aling-Aling-Wasserfällen führt durch üppige tropische Vegetation\, vorbei an Reisterrassen und kleinen Flüssen. Am Ziel erwarten uns mehrere Wasserfälle mit natürlichen Becken\, die zu einer erfrischenden Abkühlung einladen. Diese Wanderung verbindet Naturerlebnis\, Bewegung und die ursprüngliche Schönheit Balis auf besonders eindrucksvolle Weise. \n\n\n\nDie Magie der Insel \nBali gilt als die „Insel der Götter“ – ein Ort\, an dem Natur\, Spiritualität und Kultur auf einzigartige Weise verschmelzen. \nReisende finden hier üppige Regenwälder\, kunstvolle Tempel\, Reisterrassen\, vulkanische Berge und eine Atmosphäre\, die gleichermaßen lebendig wie tiefenentspannt ist. \nUbud\, im Herzen Balis gelegen\, ist das kulturelle Zentrum der Insel. Die Stadt ist bekannt für ihre Kunstszene\, traditionellen Handwerksmärkte und Yogazentren. Hier reihen sich Galerien\, Tempel und kleine Cafés aneinander\, während die berühmten Tegalalang-Reisterrassen und der Monkey Forest direkt vor der Tür liegen. Ubud vermittelt das Gefühl\, mitten im balinesischen Alltag zu sein – voller Rituale\, Tänze und traditioneller Zeremonien. \nTejakula hingegen liegt an der ruhigen Nordostküste der Insel und bietet einen ganz anderen Blick auf Bali. Die Gegend ist weniger touristisch\, ursprünglicher und ideal für Reisende\, die Abgeschiedenheit\, Natur und Stille suchen. Schwarze Lavastrände\, klare Küstengewässer und kleine Gemeinden prägen das Bild. Viele Unterkünfte sind hier nachhaltiger gestaltet und in die Landschaft eingebettet – perfekt für Yoga\, Meditation\, Rückzug und authentische Begegnungen mit der lokalen Kultur. \nSo zeigt Bali auf kleinem Raum zwei sehr unterschiedliche Welten: das lebendige\, spirituelle Ubud im Inland und das friedliche\, naturbelassene Tejakula an der Küste. \n\n\n\nSo wohnst Du \n3 Tage Ubud \nHotel Sapodilla ist der ideale Ort für Reisende in Ubud – dem farbenfrohen\, lebendigen Zentrum des kulturellen Charmes Balis. Tempel\, Paläste und lokale kulturelle Sehenswürdigkeiten befinden sich in unmittelbarer Nähe\, ebenso wie Cafés\, Restaurants\, Geschäfte\, ein Yoga-Zentrum und vieles mehr. Nutzen Sie diese großartige Lage als Ausgangspunkt\, um die Natur\, Kultur\, das kulinarische\, spirituelle und gesellschaftliche Leben von Ubud zu erkunden. \nAlle Zimmer im Sapodilla Ubud zeichnen sich durch ein offenes und modernes Interieur aus\, das eine ruhige\, gelassene und gemütliche Atmosphäre schafft. Jedes Zimmer ist mit Klimaanlage\, Flachbildfernseher und Safe ausgestattet. Genießen Sie eine Tasse Tee auf dem Balkon mit Blick auf den Garten. Das Zimmer verfügt außerdem über ein eigenes Bad mit Badewanne und Dusche. \n10 Tage Sambirenteng \nDas Resort Holiway Garden liegt in einem In einem tropischen Gartenparadies an der Nordküste Balis\, unmittelbar an der Balisee liegen die achtzehn Ferienhäuser und sieben Bungalows des Resorts. \nDie Anlage ist unter deutscher Führung\, und die einheimischen Mitarbeiter sind außergewöhnlich freundlich und hilfsbereit. Ihre Herzlichkeit und Aufmerksamkeit schaffen eine Atmosphäre\, in der sich jeder Gast willkommen und rundum wohlfühlt. \nBalinesische Architektur und die Orientierung an alten Feng-Shui-Regeln bilden in den Villen-Ferienhäusern die Grundlage für echten Wohngenuss. Die Ausstattung nach westlichem Standart hingegen bietet dir den gewohnten Komfort. \nDie freistehenden Bungalows befinden sich in unmittelbarer Nähe zum Pool und Restaurant. Von der Terrasse kannst du den Blick über das Meer oder den Garten schweifen lassen. \nUnter den geübten Hände einfühlsamen Mitarbeiterinnen findest du im SPA „Lotus“ schnell deine innere Balance. Genieße die Entspannung einer balinesischen Massage oder erfreue dich an der Schönheit deiner Haut nach einem Detox-Facial. \nDer Pool – die blaue Lagune des Resorts – ist umgeben von einer weißen Strandlounge. Egal ob zum Plaudern oder Entspannen\, unter hohen Palmen und blauem Himmel laden Pool und Lounge zum Entspannen und Faulenzen ein. \n \nZur Buchung \nDu kannst die Reise direkt über unseren Reiseveranstalter Shamana Yoga Retreats buchen: \n02. -16. Januar 2027 | Yoga Retreat mit Tamara Bäuerle auf Bali \n \nDu hast noch Fragen? \nDann schreibe mir gerne eine Nachricht an info@tamarabaeuerle.com oder an 015756033288. Ich melde mich schnellstmöglich bei dir zurück.
URL:https://tamaraflussdeslebens.de/event/bali-yoga-retreat/
LOCATION:Kykladen
CATEGORIES:Yoga Retreat
ORGANIZER;CN="Tamara Miriam B%C3%A4uerle":MAILTO:tamara.baeuerle@web.de
END:VEVENT
END:VCALENDAR