BEGIN:VCALENDAR
VERSION:2.0
PRODID:-//Tamara Miriam Bäuerle - ECPv6.15.20//NONSGML v1.0//EN
CALSCALE:GREGORIAN
METHOD:PUBLISH
X-ORIGINAL-URL:https://tamaraflussdeslebens.de
X-WR-CALDESC:Veranstaltungen für Tamara Miriam Bäuerle
REFRESH-INTERVAL;VALUE=DURATION:PT1H
X-Robots-Tag:noindex
X-PUBLISHED-TTL:PT1H
BEGIN:VTIMEZONE
TZID:Europe/Berlin
BEGIN:DAYLIGHT
TZOFFSETFROM:+0100
TZOFFSETTO:+0200
TZNAME:CEST
DTSTART:20230326T010000
END:DAYLIGHT
BEGIN:STANDARD
TZOFFSETFROM:+0200
TZOFFSETTO:+0100
TZNAME:CET
DTSTART:20231029T010000
END:STANDARD
BEGIN:DAYLIGHT
TZOFFSETFROM:+0100
TZOFFSETTO:+0200
TZNAME:CEST
DTSTART:20240331T010000
END:DAYLIGHT
BEGIN:STANDARD
TZOFFSETFROM:+0200
TZOFFSETTO:+0100
TZNAME:CET
DTSTART:20241027T010000
END:STANDARD
BEGIN:DAYLIGHT
TZOFFSETFROM:+0100
TZOFFSETTO:+0200
TZNAME:CEST
DTSTART:20250330T010000
END:DAYLIGHT
BEGIN:STANDARD
TZOFFSETFROM:+0200
TZOFFSETTO:+0100
TZNAME:CET
DTSTART:20251026T010000
END:STANDARD
END:VTIMEZONE
BEGIN:VEVENT
DTSTART;TZID=Europe/Berlin:20241012T110000
DTEND;TZID=Europe/Berlin:20241102T110000
DTSTAMP:20260422T213823
CREATED:20230117T103148Z
LAST-MODIFIED:20240315T100820Z
UID:1433-1728730800-1730545200@tamaraflussdeslebens.de
SUMMARY:Yogalehrer Ausbildung 200h
DESCRIPTION:Wir begleiten Dich auf dem Weg vom Yogapraktizierenden zum Yogalehrenden. Diese Yogalehrer/innen Ausbildung ist für Dich\, wenn Du Dein Wissen über Yoga erweitern\, Deine Praxis verfeinern und in die Philosophie des Yoga eintauchen möchtest. Du wirst Deine eigene Praxis vertiefen und lernen\, wie Du anderen effektiv Yoga beibringen kannst. Entwickele Deine Fähigkeit\, klar zu kommunizieren und mit ruhiger Stimme authentisch anzuleiten. \nKoordiniere Deine Schüler/innen und passe die Yogastunde an die Bedürfnisse Deiner Teilnehmenden an. Das Ziel dieser Yogalehrer Ausbildung ist\, dass Du Yoga mit viel Wissen und Liebe weitergeben und unterrichten kannst. \nAlle Informationen\, die Du benötigst\, findest Du auf unserer Lehrerfortbildungsseite und im folgenden PDF: \n\n\n\n    \n        \n            \n            \n                Infos Yogalehrer Ausbildung 2026\, Griechenland\n                 1 Datei(en)  17.30 MB\n            \n            \n                Download\n            \n        \n    \n\n\n\nBitte kontaktiere uns\, wenn Du noch Fragen hast. Gerne beraten wir Dich\, wenn Du Dir nicht sicher bist\, ob die Yoga Ausbildung etwas für Dich ist. \nDer Unterricht findet auf deutsch statt. \n\n\n\n\n\n\n\n\n\n\n\n\n\n\n\n\n\n\n\n\n  \n\n\n\nMelde Dich zur Veranstaltung an und reserviere einen Platz.\nDu erhältst eine Bestätigung und weitere Infos per Mail.\n\n Dein Name\n     \n\n Deine E-Mail-Adresse\n     \n\n Wie viele Plätze möchtest Du reservieren?\n     \n\n Deine Nachricht (optional)\n     \n\nIch stimme den AGB und Datenschutzbestimmungen zu.\n\n\n\n\n\nBuchungs- und Stornierungsbedingungen \nBei Buchung ist eine Anzahlung von 20% zu leisten. \nBis drei Monate vor Beginn der Yogalehrer Ausbildung kannst Du kostenfrei stornieren. Solltest Du nach diesem Zeitpunkt von der Ausbildung zurücktreten wollen werden folgende Zahlungen erhoben: \n30% des Reisepreises bis sechs Wochen vor Beginn des Retreats. 50% ab sechs Wochen und bis sieben Tage vor Beginn des Retreats. 90% des Reisepreises weniger als sieben Tage vor Beginn des Retreats. \nUm ganz sicher zu gehen\, raten wir Dir zum Abschließen einer Reiserücktrittsversicherung\, die die Kosten im Fall der Fälle übernimmt.
URL:https://tamaraflussdeslebens.de/event/hatha-vinyasa-yogalehrer-ausbildung-200h-griechenland/
LOCATION:Sea and Soul Retreat Greece\, Kiveri Beach 1\, Argos\, 21200\, Griechenland
CATEGORIES:Yogalehrer-Ausbildung
ATTACH;FMTTYPE=image/jpeg:https://tamaraflussdeslebens.de/wp-content/uploads/Kopie-von-Yoga-Lehrer-Ausbildung-Pdf-Gross.jpeg
END:VEVENT
BEGIN:VEVENT
DTSTART;TZID=Europe/Berlin:20241012T110000
DTEND;TZID=Europe/Berlin:20241102T110000
DTSTAMP:20260422T213823
CREATED:20230117T103148Z
LAST-MODIFIED:20230816T182439Z
UID:1424-1728730800-1730545200@tamaraflussdeslebens.de
SUMMARY:Yoga Teacher Training 200h
DESCRIPTION:200h Hatha & Vinyasa Yoga Teacher Training \nWe accompany you on the way from yoga practitioner to yoga teacher. This yoga teacher training is for you if you want to expand your knowledge of yoga\, refine your practice and immerse yourself in the philosophy of yoga. You will deepen your own practice and learn how to effectively teach yoga to others. Develop your ability to communicate clearly and to lead authentically in a calm voice. \nCoordinate your students and adapt the yoga class to the needs of your participants. The goal of this yoga teacher training is that you can pass on and teach yoga with a lot of knowledge and love. \nYou can find all the information you need on our teacher training page and in the following PDF: \n \nPlease contact us if you have any questions. We would be happy to advise you if you are not sure whether the yoga training is something for you. \nAll lessons are held in German! \n  \nBookings \nYou have two options to register for the retreat. \n\nYou can fill out the reservation form\, I will send you the transfer details (bank transfer is also possible) and you will receive your booking confirmation after receipt of payment.\nYou use the ticket function and pay directly via Paypal. The booking confirmation will then follow.\n\nWe look forward to you! \nTamara & Dominique \n\n\n  \n\n\n\nRegister for the event and reserve a spot.\nYou will receive a confirmation and further info by mail.\n\n Your name\n     \n\n Your email address\n     \n\n For how many people do you want to reserve?\n     \n\n Your message (optional)\n     \n\nI agree to the terms and conditions and privacy policy.
URL:https://tamaraflussdeslebens.de/event/hatha-vinyasa-yoga-teacher-training-200h/
LOCATION:Sea and Soul Retreat\, Kiveri Beach 1\, Argos\, 21200\, Griechenland
CATEGORIES:Yoga Teacher Training
ORGANIZER;CN="Tamara Miriam B%C3%A4uerle":MAILTO:tamara.baeuerle@web.de
END:VEVENT
BEGIN:VEVENT
DTSTART;VALUE=DATE:20241122
DTEND;VALUE=DATE:20241126
DTSTAMP:20260422T213823
CREATED:20230526T140518Z
LAST-MODIFIED:20241030T190544Z
UID:3431-1732233600-1732579199@tamaraflussdeslebens.de
SUMMARY:Yin & Yang Yoga Retreat
DESCRIPTION:Komme mit uns vom 22.11.-25.11.2024 auf eine Reise\, erfahre und balanciere Deine entgegengesetzte aber miteinander verbundene Kräfte \nErlebe das ultimative Gleichgewicht von Körper und Geist beim Yin und Yang Yoga Retreat im zauberhaften Pitztal\, Österreich! Tauche 4 Tage ein\, in voller harmonischer Bewegung\, tiefer Entspannung und spiritueller Erneuerung inmitten der atemberaubenden Alpenlandschaft.  \n\nSichere mir meinen Platz! – Nur noch wenige verfügbar!\n \nDie Kombination von Yin und Yang Yoga in unserem Retreat ermöglicht es Dir\, die Balance zwischen Aktivität und Entspannung\, Anspannung und Loslassen\, Stärke und Flexibilität zu finden. Du wirst sowohl körperlich als auch geistig gestärkt und erfährst eine tiefgreifende Harmonie in Deinem gesamten Sein. \nDie weibliche Yin-Energie im Yoga repräsentiert eine ruhige\, empfangende und nach innen gerichtete Qualität. Sie wird mit Eigenschaften wie Sanftheit\, Intuition\, Hingabe und Empfindsamkeit in Verbindung gebracht. Yin wird oft als das passive Prinzip angesehen\, das sich dem Fluss des Lebens hingibt\, Veränderungen akzeptiert und eine tiefe Verbindung zur eigenen Intuition und Weisheit herstellt. \nIm Kontext des Yin Yoga umfasst die weibliche Yin-Energie das längere Verweilen in den Asanas\, um das tieferliegende Bindegewebe und die Faszien zu stimulieren. Dieser Ansatz unterstützt das Loslassen von Spannungen und die Öffnung des Körpers auf subtile Weise. Yin Yoga ermöglicht es\, innere Blockaden zu erkennen\, zu akzeptieren und letztendlich loszulassen. \nIn einem breiteren Sinne steht die weibliche Yin-Energie für die Fähigkeit\, den Moment zu genießen\, sich um sich selbst und andere zu kümmern und die innere Welt zu erforschen. Sie steht im Kontrast zur männlichen Yang-Energie. \n \nDie männliche Yang-Energie im Yoga verkörpert ein aktives\, nach außen gerichtetes und kraftvolles Prinzip. Sie wird mit Eigenschaften wie Stärke\, Ausdauer\, Fokus und Durchsetzungsvermögen in Verbindung gebracht. Yang repräsentiert das aktive Handeln\, die Energieerzeugung und den bewussten Einsatz von Kraft und Willenskraft. \nIm Kontext des Yoga wird die männliche Yang-Energie häufig mit dynamischen und kraftvollen Praktiken wie Vinyasa Yoga verbunden. Diese Praxis beinhaltet fließende Bewegungen\, die mit dem Atem synchronisiert werden\, um den Körper zu stärken\, die Flexibilität zu verbessern und die Ausdauer zu fördern. Yang Yoga zielt darauf ab\, den Körper zu aktivieren\, Muskeln aufzubauen und den Geist zu fokussieren. \nDie männliche Yang-Energie steht für den Tatendrang\, die Zielorientierung und die Manifestation von Absichten. Sie ist ein aktiver Ausdruck der eigenen Kraft und Ausdauer\, um Herausforderungen anzunehmen und Ziele zu erreichen. Yang-Energie ist dynamisch und feurig\, sie erzeugt Energie und treibt uns an\, uns im Leben zu engagieren. \nDas Gleichgewicht zwischen der weiblichen Yin-Energie und der männlichen Yang-Energie ist entscheidend für das Wohlbefinden und die innere Harmonie. Indem wir uns bewusst mit der weiblichen Yin-Energie verbinden\, können wir einen Raum schaffen\, um unsere Intuition zu stärken\, Selbstfürsorge zu praktizieren und uns mit unserer weiblichen Seite zu verbinden. Durch das bewusste Verbinden mit der männlichen Yang-Energie können wir unsere Stärke entfalten\, unsere Ziele klar definieren und unsere Energien gezielt einsetzen. \nDas Yin und Yang Yoga Retreat im Pitztal bietet Dir die Möglichkeit\, diese beiden gegensätzlichen Energien zu integrieren und in Einklang zu bringen. Durch die bewusste Praxis beider Yoga-Stile wirst Du nicht nur körperliche Veränderungen erleben\, sondern auch deine innere Ausgeglichenheit fördern und dein Bewusstsein erweitern. \nNimm Dir Zeit für Dich selbst\, lass den Alltag hinter Dir und tauche ein in die transformative Kraft des Yin und Yang Yoga Retreats im Pitztal. Gib Dir selbst die Geschenke von Yin und Yang Yoga und entdecke das harmonische Gleichgewicht\, das in Dir ruht. Du wirst gestärkt\, erfrischt und mit einem Gefühl der Harmonie und Zufriedenheit zurückkehren. \nMelde Dich jetzt an und sichere Dir Deinen Platz bei diesem unvergesslichen Yogaretreat im Herzen der österreichischen Alpen. Wir freuen uns darauf\, Dich auf Deiner Reise zu begleiten! \n\nSichere mir schnell meinen Platz!\n \nWo findet das Retreat statt? \nFür das Retreat haben wir eine besondere Location ausgesucht\, die unser Prinzip von Yin und Yang unterstützt. Das Vier-Sterne-Superior-Hotel in Mandarfen\, in Österreich\, Pitztal\, \nbietet einen wunderschönen Yoga- und Meditationsraum\, sowie ein großen Wellnessbereich\, mitten in den österreichischen Alpen. \nEntdecke\, wie es sich anfühlt\, vom höchsten Gipfel des Pitztals die halbe Welt zu überblicken. Oder was es bedeutet\, beim Entspannen im Panorama-Ruheraum oder auf Deiner Yogamatte endlich die innere Ruhe zu finden\, die Du schon so lange gesucht hast. \n  \nHoch gelegen und tief entspannt \nNach dem Yoga mit bestem Gewissen den Tag im Bademantel verbringen. Dabei zusehen\, wie sich Dein Körper erholt. Vom Saunafenster aus Berggipfel bewundern\, die man in Gedanken bereits jetzt besteigt – und morgen dann vielleicht “in echt”. \n\n\nIch bin dabei! – Nur noch wenige Plätze verfügbar.\n \nWellness \n\nSchwimmbad 90m²\nbeheizter XL Außenwhirlpool\nIndoor-Whirlpool\nSaunabereich für Erwachsene: Finnische Sauna\, Dampfbad\, Infrarotkabine\, Frischluftraum\, Pitztaler Schwitzstube\, Dampfbad\, Zirbensauna\nWellnesstasche für die Dauer des Aufenthaltes\nMassagebereich\, Haslauerwanne\nMeditationsraum zum Ruhen\, Ruheraum mit Wasserbetten\, Ruhepavillion mit Kamin\n\nKulinarik \n\nWillkommensdrink bei der Anreise\nAusgiebiges Frühstücksbuffet aus der Region\nLunchbuffet von 12.30 – 17.00 Uhr\n5-Gänge-Genussmenü am Abend\nThemenabende\nGesunde Knabbereien & Getränke im Wellnessbereich\nFrontcooking-Station am Buffet\nTäglich vegane und vegetarische Menüs\nExtras & Wünsche: Gerne berücksichtigen wir spezielle Lebensmittelunverträglichkeit oder Allergie\n\nMehr Infos zum Hotel findest Du hier. \n\n\nSichere mir meinen Platz!\n \nDas Retreat Programm \n \n*Änderungen am Programm sind vorbehalten. \nPreise \nPreis für Unterkunft & Vollpension \nDoppelzimmer Standard: 447 Euro/pro Person (noch 1 Zimmer verfügbar) \nEinzelzimmer Standard: 497 Euro \nSeminarbeitrag \nYoga- und Meditationsprogramm: 300 Euro \nInklusive Leistungen \n\nVollpension (3x Abendessen\, 3x Mittag\, 3x Frühstück)\nÜbernachtung (3 Nächte)\nYoga- und Meditationsprogramm\nSpa Bereich (jeden Tag)\nWellnesstasche (Bademantel\, Saunatücher) zum Verleih am Zimmer für die Dauer des Aufenthalts\nParkplätze\nKostenloses W-LAN  \n\nNicht inklusive \n\nAnreise\nAusflüge (optional)\nSpa- und Massagebehandlungen (optional)\nDie Kurtaxe von 6 Euro/Tag\n\nBuchungMöchtest Du am Retreat teilnehmen? Dann schreibe mir ganz einfach eine Nachricht an: baeuerle.tamara@gmail.com mit Deinem vollständigen Namen und Zimmerwunsch. \nWer begleitet Dich? \n\nMartina Matic \nIch bin Martina\, Gründerin des Herzenskreis Studios\, zweifache Mama und ausgebildete Meditations- und Yogalehrerin. Meine Mission ist es\, die Menschen durch meinen Yoga- und Meditationsunterricht wieder mit ihrem Herzen in Berührung zu bringen. Kopf und Herz zu verbinden\, den Körper bewusst wahrnehmen\, im jetzigen Moment ankommen\, akzeptieren und loslassen. Im Yoga lernen wir die eigenen Grenzen ausloten\, kräftigen den Körper und steigern die Beweglichkeit. Ich unterrichte sowohl aktives Hatha Yoga\, als auch passives Yin Yoga\, das für mich die perfekte Kombination aus muskulären und faszialen Bewegungsabläufen beinhaltet. In meinem Pranayama- und Meditationskursen lernst du spielerisch mehr Ruhe\, Gelassenheit und Klarheit in deinen Alltag zu integrieren. \nFür mich ist mein Yoga Weg meine Lebensphilosophie\, die ich in meinem Unterricht gerne mit Dir teilen möchte. \n \nTamara Miriam Bäuerle \nIch möchte Dir eine Inspiration sein und Dich ermutigen\, Deinen Weg zu gehen. \nAls erfahrene Yogalehrerin und Outdoor-Führerin ermögliche ich transformative Erfahrungen aller Art. Mein Yogaunterricht zeichnet sich dadurch aus\, dass ich Dir Halt und Stabilität gebe\, während ich Dich einlade aus Deiner Komfortzone zu treten. Ich bin öfters neben Dir auf Deiner Matte als im Frontalunterricht. \nIch sehe Yoga als kontemplative Kunst und als Werkzeug für Selbstwachstum und Transformation. Seit 2018 leite ich Retreats in ganz Europa und habe bereits Retreats in Griechenland\, Italien\, Deutschland\, Österreich und Spanien geleitet. \nDerzeit lebe ich als digitale Nomadin in Griechenland und arbeitet täglich daran\, die beste Version von mir selbst und meinem Leben zu erschaffen. Ich liebe das Meer\, meinen Hund Mio und alle Arten von Abenteuern. \nNimm Dir Zeit für Dich selbst\, lass den Alltag hinter Dir und tauche ein in die transformative Kraft des Yin und Yang Yoga Retreats im Pitztal. Gib Dir selbst die Geschenke von Yin und Yang Yoga und entdecke das harmonische Gleichgewicht\, das in Dir ruht. Du wirst gestärkt\, erfrischt und mit einem Gefühl der Harmonie und Zufriedenheit zurückkehren. \nWir freuen uns auf Dich! \nTamara & Martina \nBuchungskonditionen \nBei der Anmeldung ist eine Kaution von 30% des Reisepreises zu hinterlegen. Anmeldung erforderlich. Der Restbetrag ist 60 Tage vor Reiseantritt fällig. Für diese Reise ist eine Mindestteilnehmerzahl von 6 Personen erforderlich. Wenn die Mindestteilnehmerzahl nicht erreicht wird\, erhalten alle angemeldeten Gäste eine vollständige Rückerstattung des gezahlten Betrags oder können die Anzahlung auf eine spätere Reservierung übertragen. \nWenn Du bis zu 90 Tage vor dem Check-in-Tag stornierst\, erhälst Du 100 % Rückerstattung abzüglich der Anzahlung. Bei Stornierungen zwischen 61 und 90 Tagen vor dem Ankunftsdatum erhälst Du 50 % der Anzahlung zurückerstattet\, abzüglich der Anzahlung. Da wir uns im Voraus für die Unterbringung und andere Vorkehrungen verpflichten müssen\, erfolgt keine Rückerstattung für Stornierungen\, die innerhalb von 60 Tagen vor Deiner geplanten Ankunft erfolgen. Wir bieten keine Gutschrift für verspätete Ankunft oder vorzeitige Abreise.
URL:https://tamaraflussdeslebens.de/event/yin-yang-yoga-retreat/
LOCATION:Hotel Vier Jahreszeiten\, Mandarfen 73\, St. Leonhard\, Tirol\, 6481\, Österreich
CATEGORIES:Yoga Retreat
ATTACH;FMTTYPE=image/jpeg:https://tamaraflussdeslebens.de/wp-content/uploads/BannerYinYang25-Gross.jpeg
ORGANIZER;CN="Tamara Miriam B%C3%A4uerle":MAILTO:tamara.baeuerle@web.de
END:VEVENT
BEGIN:VEVENT
DTSTART;VALUE=DATE:20241122
DTEND;VALUE=DATE:20241126
DTSTAMP:20260422T213823
CREATED:20230526T140518Z
LAST-MODIFIED:20230526T140518Z
UID:3580-1732233600-1732579199@tamaraflussdeslebens.de
SUMMARY:Yin & Yang Yoga Retreat
DESCRIPTION:Save the Date \n28.10.-04.11.2023 \nYin & Yang Yoga Retreat with Martina Matic \nAll info coming in the next few days!
URL:https://tamaraflussdeslebens.de/event/yin-yang-yoga-retreat/
LOCATION:Hotel Vier Jahreszeiten\, Mandarfen 73\, St. Leonhard\, Tirol\, 6481\, Österreich
CATEGORIES:Yoga Retreat
ATTACH;FMTTYPE=image/jpeg:https://tamaraflussdeslebens.de/wp-content/uploads/BannerYinYang25-Gross.jpeg
ORGANIZER;CN="Tamara Miriam B%C3%A4uerle":MAILTO:tamara.baeuerle@web.de
END:VEVENT
BEGIN:VEVENT
DTSTART;VALUE=DATE:20241123
DTEND;VALUE=DATE:20241201
DTSTAMP:20260422T213823
CREATED:20230526T134450Z
LAST-MODIFIED:20230526T134450Z
UID:3571-1732320000-1733011199@tamaraflussdeslebens.de
SUMMARY:Wüstenretreat Marokko
DESCRIPTION:Save the date \n31.01.-10.02.2024 \nMit Dominique Korz \nAll info coming in the next few days!
URL:https://tamaraflussdeslebens.de/event/wuestenretreat-marokko/
LOCATION:Marrakesch\, Marokko\, Marokko
CATEGORIES:Yoga Retreat
ATTACH;FMTTYPE=image/jpeg:https://tamaraflussdeslebens.de/wp-content/uploads/Yoga-Wuestenretreat-Marokko.jpeg
ORGANIZER;CN="Tamara Miriam B%C3%A4uerle":MAILTO:tamara.baeuerle@web.de
END:VEVENT
END:VCALENDAR