BEGIN:VCALENDAR
VERSION:2.0
PRODID:-//Tamara Miriam Bäuerle - ECPv6.15.20//NONSGML v1.0//EN
CALSCALE:GREGORIAN
METHOD:PUBLISH
X-WR-CALNAME:Tamara Miriam Bäuerle
X-ORIGINAL-URL:https://tamaraflussdeslebens.de
X-WR-CALDESC:Veranstaltungen für Tamara Miriam Bäuerle
REFRESH-INTERVAL;VALUE=DURATION:PT1H
X-Robots-Tag:noindex
X-PUBLISHED-TTL:PT1H
BEGIN:VTIMEZONE
TZID:Europe/Berlin
BEGIN:DAYLIGHT
TZOFFSETFROM:+0100
TZOFFSETTO:+0200
TZNAME:CEST
DTSTART:20240331T010000
END:DAYLIGHT
BEGIN:STANDARD
TZOFFSETFROM:+0200
TZOFFSETTO:+0100
TZNAME:CET
DTSTART:20241027T010000
END:STANDARD
BEGIN:DAYLIGHT
TZOFFSETFROM:+0100
TZOFFSETTO:+0200
TZNAME:CEST
DTSTART:20250330T010000
END:DAYLIGHT
BEGIN:STANDARD
TZOFFSETFROM:+0200
TZOFFSETTO:+0100
TZNAME:CET
DTSTART:20251026T010000
END:STANDARD
BEGIN:DAYLIGHT
TZOFFSETFROM:+0100
TZOFFSETTO:+0200
TZNAME:CEST
DTSTART:20260329T010000
END:DAYLIGHT
BEGIN:STANDARD
TZOFFSETFROM:+0200
TZOFFSETTO:+0100
TZNAME:CET
DTSTART:20261025T010000
END:STANDARD
END:VTIMEZONE
BEGIN:VEVENT
DTSTART;TZID=Europe/Berlin:20251212T080000
DTEND;TZID=Europe/Berlin:20251214T170000
DTSTAMP:20260421T135734
CREATED:20250613T065930Z
LAST-MODIFIED:20250613T065930Z
UID:7374-1765526400-1765731600@tamaraflussdeslebens.de
SUMMARY:30h Yoga Weiterbildung - Aufbau Wochenende für 200h Yogalehrer:innen
DESCRIPTION:Refresher-Wochenende für Yogalehrer:innen12.–14. Dezember 2025 · Ulm · Yoga Alliance zertifiziert (YACEP\, 30h) \nDu hast Deine 200h-Ausbildung bereits abgeschlossen und möchtest Dein Wissen auffrischen\, Dein Unterricht sicherer gestalten und Deine eigene Lehrstimme weiterentwickeln?In diesem praxisnahen Wochenende erwarten Dich: \n\n\nSequenzierung & Stundenaufbau mit Peak-Asana \n\n\nModifikationen & sichere verbale Anleitung \n\n\nHands-On-Basics & achtsame Ausrichtung \n\n\nPranayama & Meditation anleiten \n\n\nYogaphilosophie praxisnah integrieren \n\n\nAustausch & Supervision mit erfahrenen Lehrerinnen \n\n\nZiel: Mehr Sicherheit\, mehr Klarheit\, mehr Freude im Unterrichten.Zertifiziert: Yoga Alliance (YACEP\, 30h Continuing Education) \nAlle Infos findest Du HIER. \n👉 Bei Fragen oder zur Anmeldung: tamara@beyouyogaacademy.com
URL:https://tamaraflussdeslebens.de/event/30h-yoga-weiterbildung-yacep/
LOCATION:Herzenskreis Yoga Studio\, Olgastraße 143\, 89073 Ulm\, Deutschland
CATEGORIES:Yoga Weiterbildung
ATTACH;FMTTYPE=image/jpeg:https://tamaraflussdeslebens.de/wp-content/uploads/RefresherWochenende.jpeg
ORGANIZER;CN="Tamara Miriam B%C3%A4uerle":MAILTO:tamara.baeuerle@web.de
END:VEVENT
END:VCALENDAR